BEGIN:VCALENDAR
VERSION:2.0
PRODID:-//Domaine équestre de Maruejols - ECPv6.15.20//NONSGML v1.0//EN
CALSCALE:GREGORIAN
METHOD:PUBLISH
X-WR-CALNAME:Domaine équestre de Maruejols
X-ORIGINAL-URL:https://domaine-equestre-maruejols.fr
X-WR-CALDESC:Évènements pour Domaine équestre de Maruejols
REFRESH-INTERVAL;VALUE=DURATION:PT1H
X-Robots-Tag:noindex
X-PUBLISHED-TTL:PT1H
BEGIN:VTIMEZONE
TZID:Europe/Paris
BEGIN:DAYLIGHT
TZOFFSETFROM:+0100
TZOFFSETTO:+0200
TZNAME:CEST
DTSTART:20240331T010000
END:DAYLIGHT
BEGIN:STANDARD
TZOFFSETFROM:+0200
TZOFFSETTO:+0100
TZNAME:CET
DTSTART:20241027T010000
END:STANDARD
BEGIN:DAYLIGHT
TZOFFSETFROM:+0100
TZOFFSETTO:+0200
TZNAME:CEST
DTSTART:20250330T010000
END:DAYLIGHT
BEGIN:STANDARD
TZOFFSETFROM:+0200
TZOFFSETTO:+0100
TZNAME:CET
DTSTART:20251026T010000
END:STANDARD
BEGIN:DAYLIGHT
TZOFFSETFROM:+0100
TZOFFSETTO:+0200
TZNAME:CEST
DTSTART:20260329T010000
END:DAYLIGHT
BEGIN:STANDARD
TZOFFSETFROM:+0200
TZOFFSETTO:+0100
TZNAME:CET
DTSTART:20261025T010000
END:STANDARD
END:VTIMEZONE
BEGIN:VEVENT
DTSTART;TZID=Europe/Paris:20250928T090000
DTEND;TZID=Europe/Paris:20250928T170000
DTSTAMP:20260421T200334
CREATED:20250904T092012Z
LAST-MODIFIED:20250904T092012Z
UID:10003719-1759050000-1759078800@domaine-equestre-maruejols.fr
SUMMARY:Cross\, écuries de Miel
DESCRIPTION:Cross\, écuries de Miel\nVenez profiter d’un parcours de cross optimal progresser dans cette discipline ! \nA partir du galop 5
URL:https://domaine-equestre-maruejols.fr/calendrier/cross-ecuries-de-miel/
LOCATION:Ecuries de Miel\, P7FH+WR\, 30600 Vestric-et-Candiac\, France
CATEGORIES:Cross
ATTACH;FMTTYPE=image/jpeg:https://domaine-equestre-maruejols.fr/wp-content/uploads/2022/03/cross4.jpg
ORGANIZER;CN="Domaine %C3%A9questre de Maru%C3%A9jols":MAILTO:contact@domaine-equestre-maruejols.fr
GEO:43.7248125;4.2795625
X-APPLE-STRUCTURED-LOCATION;VALUE=URI;X-ADDRESS=Ecuries de Miel P7FH+WR 30600 Vestric-et-Candiac France;X-APPLE-RADIUS=500;X-TITLE=P7FH+WR:geo:4.2795625,43.7248125
END:VEVENT
END:VCALENDAR