BEGIN:VCALENDAR
VERSION:2.0
PRODID:-//Domaine équestre de Maruejols - ECPv6.15.20//NONSGML v1.0//EN
CALSCALE:GREGORIAN
METHOD:PUBLISH
X-ORIGINAL-URL:https://domaine-equestre-maruejols.fr
X-WR-CALDESC:Évènements pour Domaine équestre de Maruejols
REFRESH-INTERVAL;VALUE=DURATION:PT1H
X-Robots-Tag:noindex
X-PUBLISHED-TTL:PT1H
BEGIN:VTIMEZONE
TZID:Europe/Paris
BEGIN:DAYLIGHT
TZOFFSETFROM:+0100
TZOFFSETTO:+0200
TZNAME:CEST
DTSTART:20250330T010000
END:DAYLIGHT
BEGIN:STANDARD
TZOFFSETFROM:+0200
TZOFFSETTO:+0100
TZNAME:CET
DTSTART:20251026T010000
END:STANDARD
BEGIN:DAYLIGHT
TZOFFSETFROM:+0100
TZOFFSETTO:+0200
TZNAME:CEST
DTSTART:20260329T010000
END:DAYLIGHT
BEGIN:STANDARD
TZOFFSETFROM:+0200
TZOFFSETTO:+0100
TZNAME:CET
DTSTART:20261025T010000
END:STANDARD
BEGIN:DAYLIGHT
TZOFFSETFROM:+0100
TZOFFSETTO:+0200
TZNAME:CEST
DTSTART:20270328T010000
END:DAYLIGHT
BEGIN:STANDARD
TZOFFSETFROM:+0200
TZOFFSETTO:+0100
TZNAME:CET
DTSTART:20271031T010000
END:STANDARD
END:VTIMEZONE
BEGIN:VEVENT
DTSTART;TZID=Europe/Paris:20260805T140000
DTEND;TZID=Europe/Paris:20260805T170000
DTSTAMP:20260425T123211
CREATED:20221109T073849Z
LAST-MODIFIED:20260420T025823Z
UID:10004063-1785938400-1785949200@domaine-equestre-maruejols.fr
SUMMARY:CSO
DESCRIPTION:Demi-journée CSO\nPour les amateurs de CSO (à partir du galop 3). \nQue vous soyez compétiteurs ou non\, le CSO est une discipline exigeante mais riche en émotions. \nUne demi-journée pleine de rebondissements 🙂 \nComme il nous est impossible de prévoir quel niveau auront les cavaliers inscrits\, pensez à vous renseigner avant l’inscription. \nPossibilité de faire une journée complète avec la demi-journée dressage. \n2.15.1.0\n2.15.1.0
URL:https://domaine-equestre-maruejols.fr/calendrier/cso/2026-08-05/
LOCATION:Domaine équestre de Maruejols\, chemin de Fontarame\, Saint-Cômes et Maruejols\, 30870\, France
CATEGORIES:CSO
ATTACH;FMTTYPE=image/jpeg:https://domaine-equestre-maruejols.fr/wp-content/uploads/2020/12/cso-fanfan-e1607324565653.jpg
ORGANIZER;CN="Domaine %C3%A9questre de Maru%C3%A9jols":MAILTO:contact@domaine-equestre-maruejols.fr
GEO:43.8249319;4.177659
X-APPLE-STRUCTURED-LOCATION;VALUE=URI;X-ADDRESS=Domaine équestre de Maruejols chemin de Fontarame Saint-Cômes et Maruejols 30870 France;X-APPLE-RADIUS=500;X-TITLE=chemin de Fontarame:geo:4.177659,43.8249319
END:VEVENT
BEGIN:VEVENT
DTSTART;TZID=Europe/Paris:20260819T140000
DTEND;TZID=Europe/Paris:20260819T170000
DTSTAMP:20260425T123211
CREATED:20221109T073849Z
LAST-MODIFIED:20260420T025823Z
UID:10004064-1787148000-1787158800@domaine-equestre-maruejols.fr
SUMMARY:CSO
DESCRIPTION:Demi-journée CSO\nPour les amateurs de CSO (à partir du galop 3). \nQue vous soyez compétiteurs ou non\, le CSO est une discipline exigeante mais riche en émotions. \nUne demi-journée pleine de rebondissements 🙂 \nComme il nous est impossible de prévoir quel niveau auront les cavaliers inscrits\, pensez à vous renseigner avant l’inscription. \nPossibilité de faire une journée complète avec la demi-journée dressage. \n2.15.1.0\n2.15.1.0
URL:https://domaine-equestre-maruejols.fr/calendrier/cso/2026-08-19/
LOCATION:Domaine équestre de Maruejols\, chemin de Fontarame\, Saint-Cômes et Maruejols\, 30870\, France
CATEGORIES:CSO
ATTACH;FMTTYPE=image/jpeg:https://domaine-equestre-maruejols.fr/wp-content/uploads/2020/12/cso-fanfan-e1607324565653.jpg
ORGANIZER;CN="Domaine %C3%A9questre de Maru%C3%A9jols":MAILTO:contact@domaine-equestre-maruejols.fr
GEO:43.8249319;4.177659
X-APPLE-STRUCTURED-LOCATION;VALUE=URI;X-ADDRESS=Domaine équestre de Maruejols chemin de Fontarame Saint-Cômes et Maruejols 30870 France;X-APPLE-RADIUS=500;X-TITLE=chemin de Fontarame:geo:4.177659,43.8249319
END:VEVENT
BEGIN:VEVENT
DTSTART;TZID=Europe/Paris:20260821T090000
DTEND;TZID=Europe/Paris:20260821T170000
DTSTAMP:20260425T123211
CREATED:20240318T091337Z
LAST-MODIFIED:20260420T033614Z
UID:10004092-1787302800-1787331600@domaine-equestre-maruejols.fr
SUMMARY:Journée hunter
DESCRIPTION:Discipline de saut\, le hunter est cependant bien différent du CSO. En CSO\, les cavaliers sont jugés sur leur vitesse d’exécution et leur capacité à franchir les obstacles. Au hunter\, c’est l’harmonie et la qualité de l’exécution du franchissement des obstacles\, l’élégance et le style du cavalier et du cheval qui sont jugés.\nUne technique complémentaire du CSO qui vous permettra de progresser encore plus dans votre pratique.\nA bientôt sur la carrière.
URL:https://domaine-equestre-maruejols.fr/calendrier/journee-hunter/2026-08-21/
LOCATION:Domaine équestre de Maruejols\, chemin de Fontarame\, Saint-Cômes et Maruejols\, 30870\, France
CATEGORIES:CSO,Loisir,Stage
ATTACH;FMTTYPE=image/jpeg:https://domaine-equestre-maruejols.fr/wp-content/uploads/2024/03/hunter.jpg
ORGANIZER;CN="Domaine %C3%A9questre de Maru%C3%A9jols":MAILTO:contact@domaine-equestre-maruejols.fr
GEO:43.8249319;4.177659
X-APPLE-STRUCTURED-LOCATION;VALUE=URI;X-ADDRESS=Domaine équestre de Maruejols chemin de Fontarame Saint-Cômes et Maruejols 30870 France;X-APPLE-RADIUS=500;X-TITLE=chemin de Fontarame:geo:4.177659,43.8249319
END:VEVENT
BEGIN:VEVENT
DTSTART;TZID=Europe/Paris:20260826T140000
DTEND;TZID=Europe/Paris:20260826T170000
DTSTAMP:20260425T123211
CREATED:20221109T073849Z
LAST-MODIFIED:20260420T025823Z
UID:10004065-1787752800-1787763600@domaine-equestre-maruejols.fr
SUMMARY:CSO
DESCRIPTION:Demi-journée CSO\nPour les amateurs de CSO (à partir du galop 3). \nQue vous soyez compétiteurs ou non\, le CSO est une discipline exigeante mais riche en émotions. \nUne demi-journée pleine de rebondissements 🙂 \nComme il nous est impossible de prévoir quel niveau auront les cavaliers inscrits\, pensez à vous renseigner avant l’inscription. \nPossibilité de faire une journée complète avec la demi-journée dressage. \n2.15.1.0\n2.15.1.0
URL:https://domaine-equestre-maruejols.fr/calendrier/cso/2026-08-26/
LOCATION:Domaine équestre de Maruejols\, chemin de Fontarame\, Saint-Cômes et Maruejols\, 30870\, France
CATEGORIES:CSO
ATTACH;FMTTYPE=image/jpeg:https://domaine-equestre-maruejols.fr/wp-content/uploads/2020/12/cso-fanfan-e1607324565653.jpg
ORGANIZER;CN="Domaine %C3%A9questre de Maru%C3%A9jols":MAILTO:contact@domaine-equestre-maruejols.fr
GEO:43.8249319;4.177659
X-APPLE-STRUCTURED-LOCATION;VALUE=URI;X-ADDRESS=Domaine équestre de Maruejols chemin de Fontarame Saint-Cômes et Maruejols 30870 France;X-APPLE-RADIUS=500;X-TITLE=chemin de Fontarame:geo:4.177659,43.8249319
END:VEVENT
END:VCALENDAR