BEGIN:VCALENDAR
VERSION:2.0
PRODID:-//Domaine équestre de Maruejols - ECPv6.15.20//NONSGML v1.0//EN
CALSCALE:GREGORIAN
METHOD:PUBLISH
X-WR-CALNAME:Domaine équestre de Maruejols
X-ORIGINAL-URL:https://domaine-equestre-maruejols.fr
X-WR-CALDESC:Évènements pour Domaine équestre de Maruejols
REFRESH-INTERVAL;VALUE=DURATION:PT1H
X-Robots-Tag:noindex
X-PUBLISHED-TTL:PT1H
BEGIN:VTIMEZONE
TZID:Europe/Paris
BEGIN:DAYLIGHT
TZOFFSETFROM:+0100
TZOFFSETTO:+0200
TZNAME:CEST
DTSTART:20250330T010000
END:DAYLIGHT
BEGIN:STANDARD
TZOFFSETFROM:+0200
TZOFFSETTO:+0100
TZNAME:CET
DTSTART:20251026T010000
END:STANDARD
BEGIN:DAYLIGHT
TZOFFSETFROM:+0100
TZOFFSETTO:+0200
TZNAME:CEST
DTSTART:20260329T010000
END:DAYLIGHT
BEGIN:STANDARD
TZOFFSETFROM:+0200
TZOFFSETTO:+0100
TZNAME:CET
DTSTART:20261025T010000
END:STANDARD
BEGIN:DAYLIGHT
TZOFFSETFROM:+0100
TZOFFSETTO:+0200
TZNAME:CEST
DTSTART:20270328T010000
END:DAYLIGHT
BEGIN:STANDARD
TZOFFSETFROM:+0200
TZOFFSETTO:+0100
TZNAME:CET
DTSTART:20271031T010000
END:STANDARD
END:VTIMEZONE
BEGIN:VEVENT
DTSTART;TZID=Europe/Paris:20260315T080000
DTEND;TZID=Europe/Paris:20260315T170000
DTSTAMP:20260423T095619
CREATED:20250902T120214Z
LAST-MODIFIED:20251229T173625Z
UID:10003797-1773561600-1773594000@domaine-equestre-maruejols.fr
SUMMARY:CSO ASSAS
DESCRIPTION:CSO Assas\nPour les compétiteurs du club. \nUne journée de compétition à partir du galop 2. \n2.15.1.0
URL:https://domaine-equestre-maruejols.fr/calendrier/cso-assas-3/2026-03-15/
LOCATION:Centre équestre du grand Mas d’Assas\, ROUTE DE GENERAC\, Nîmes\, 30900\, France
CATEGORIES:CSO
ATTACH;FMTTYPE=image/jpeg:https://domaine-equestre-maruejols.fr/wp-content/uploads/2020/02/championnat-de-france-12-e1582899183711.jpg
ORGANIZER;CN="Domaine %C3%A9questre de Maru%C3%A9jols":MAILTO:contact@domaine-equestre-maruejols.fr
GEO:43.807965;4.354283
X-APPLE-STRUCTURED-LOCATION;VALUE=URI;X-ADDRESS=Centre équestre du grand Mas d’Assas ROUTE DE GENERAC Nîmes 30900 France;X-APPLE-RADIUS=500;X-TITLE=ROUTE DE GENERAC:geo:4.354283,43.807965
END:VEVENT
END:VCALENDAR