BEGIN:VCALENDAR
VERSION:2.0
PRODID:-//Domaine équestre de Maruejols - ECPv6.15.20//NONSGML v1.0//EN
CALSCALE:GREGORIAN
METHOD:PUBLISH
X-WR-CALNAME:Domaine équestre de Maruejols
X-ORIGINAL-URL:https://domaine-equestre-maruejols.fr
X-WR-CALDESC:Évènements pour Domaine équestre de Maruejols
REFRESH-INTERVAL;VALUE=DURATION:PT1H
X-Robots-Tag:noindex
X-PUBLISHED-TTL:PT1H
BEGIN:VTIMEZONE
TZID:Europe/Paris
BEGIN:DAYLIGHT
TZOFFSETFROM:+0100
TZOFFSETTO:+0200
TZNAME:CEST
DTSTART:20240331T010000
END:DAYLIGHT
BEGIN:STANDARD
TZOFFSETFROM:+0200
TZOFFSETTO:+0100
TZNAME:CET
DTSTART:20241027T010000
END:STANDARD
BEGIN:DAYLIGHT
TZOFFSETFROM:+0100
TZOFFSETTO:+0200
TZNAME:CEST
DTSTART:20250330T010000
END:DAYLIGHT
BEGIN:STANDARD
TZOFFSETFROM:+0200
TZOFFSETTO:+0100
TZNAME:CET
DTSTART:20251026T010000
END:STANDARD
BEGIN:DAYLIGHT
TZOFFSETFROM:+0100
TZOFFSETTO:+0200
TZNAME:CEST
DTSTART:20260329T010000
END:DAYLIGHT
BEGIN:STANDARD
TZOFFSETFROM:+0200
TZOFFSETTO:+0100
TZNAME:CET
DTSTART:20261025T010000
END:STANDARD
END:VTIMEZONE
BEGIN:VEVENT
DTSTART;TZID=Europe/Paris:20250323T080000
DTEND;TZID=Europe/Paris:20250323T170000
DTSTAMP:20260426T044919
CREATED:20221229T143006Z
LAST-MODIFIED:20241228T071454Z
UID:10001717-1742716800-1742749200@domaine-equestre-maruejols.fr
SUMMARY:CSO BELLE COSTE
DESCRIPTION:CSO BELLE COSTE\nPour les compétiteurs du club. \nUne journée de compétition à partir du galop 2.
URL:https://domaine-equestre-maruejols.fr/calendrier/cso-belle-coste/
LOCATION:Ecuries de Belle Coste\, Chemin de Belle Coste\, Caissargues\, 30132\, France
CATEGORIES:CSO
ATTACH;FMTTYPE=image/jpeg:https://domaine-equestre-maruejols.fr/wp-content/uploads/2020/02/67655540_10215637764439968_7229249237064613888_o-e1582898947280.jpg
ORGANIZER;CN="Domaine %C3%A9questre de Maru%C3%A9jols":MAILTO:contact@domaine-equestre-maruejols.fr
GEO:43.791669;4.3959029
X-APPLE-STRUCTURED-LOCATION;VALUE=URI;X-ADDRESS=Ecuries de Belle Coste Chemin de Belle Coste Caissargues 30132 France;X-APPLE-RADIUS=500;X-TITLE=Chemin de Belle Coste:geo:4.3959029,43.791669
END:VEVENT
END:VCALENDAR