BEGIN:VCALENDAR
VERSION:2.0
PRODID:-//Domaine équestre de Maruejols - ECPv6.15.20//NONSGML v1.0//EN
CALSCALE:GREGORIAN
METHOD:PUBLISH
X-WR-CALNAME:Domaine équestre de Maruejols
X-ORIGINAL-URL:https://domaine-equestre-maruejols.fr
X-WR-CALDESC:Évènements pour Domaine équestre de Maruejols
REFRESH-INTERVAL;VALUE=DURATION:PT1H
X-Robots-Tag:noindex
X-PUBLISHED-TTL:PT1H
BEGIN:VTIMEZONE
TZID:Europe/Paris
BEGIN:DAYLIGHT
TZOFFSETFROM:+0100
TZOFFSETTO:+0200
TZNAME:CEST
DTSTART:20250330T010000
END:DAYLIGHT
BEGIN:STANDARD
TZOFFSETFROM:+0200
TZOFFSETTO:+0100
TZNAME:CET
DTSTART:20251026T010000
END:STANDARD
BEGIN:DAYLIGHT
TZOFFSETFROM:+0100
TZOFFSETTO:+0200
TZNAME:CEST
DTSTART:20260329T010000
END:DAYLIGHT
BEGIN:STANDARD
TZOFFSETFROM:+0200
TZOFFSETTO:+0100
TZNAME:CET
DTSTART:20261025T010000
END:STANDARD
BEGIN:DAYLIGHT
TZOFFSETFROM:+0100
TZOFFSETTO:+0200
TZNAME:CEST
DTSTART:20270328T010000
END:DAYLIGHT
BEGIN:STANDARD
TZOFFSETFROM:+0200
TZOFFSETTO:+0100
TZNAME:CET
DTSTART:20271031T010000
END:STANDARD
END:VTIMEZONE
BEGIN:VEVENT
DTSTART;TZID=Europe/Paris:20260422T090000
DTEND;TZID=Europe/Paris:20260422T120000
DTSTAMP:20260422T043543
CREATED:20221109T073229Z
LAST-MODIFIED:20260420T025338Z
UID:10004000-1776848400-1776859200@domaine-equestre-maruejols.fr
SUMMARY:Dressage
DESCRIPTION:Demi-journée dressage\nUne activité pour les cavaliers\, tous niveaux\, désireux de découvrir ou de se perfectionner dans cette discipline. \nDiscipline d’exigence et de rigueur\, le dressage vous fera faire corps avec votre cheval. \nApprofondissez la précision de vos gestes\, de votre assiette et de votre équilibre au fil de la journée. \nUne journée pour progresser et se faire plaisir. (cumulée avec CSO) \n2.15.1.0\n2.15.1.0
URL:https://domaine-equestre-maruejols.fr/calendrier/dressage-2/2026-04-22/
LOCATION:Domaine équestre de Maruejols\, chemin de Fontarame\, Saint-Cômes et Maruejols\, 30870\, France
CATEGORIES:Dressage
ATTACH;FMTTYPE=image/jpeg:https://domaine-equestre-maruejols.fr/wp-content/uploads/2020/12/dressage-lilou-1200.jpg
ORGANIZER;CN="Domaine %C3%A9questre de Maru%C3%A9jols":MAILTO:contact@domaine-equestre-maruejols.fr
GEO:43.8249319;4.177659
X-APPLE-STRUCTURED-LOCATION;VALUE=URI;X-ADDRESS=Domaine équestre de Maruejols chemin de Fontarame Saint-Cômes et Maruejols 30870 France;X-APPLE-RADIUS=500;X-TITLE=chemin de Fontarame:geo:4.177659,43.8249319
END:VEVENT
BEGIN:VEVENT
DTSTART;TZID=Europe/Paris:20260422T090000
DTEND;TZID=Europe/Paris:20260422T120000
DTSTAMP:20260422T043543
CREATED:20221109T074805Z
LAST-MODIFIED:20260420T030408Z
UID:10004004-1776848400-1776859200@domaine-equestre-maruejols.fr
SUMMARY:Voltige
DESCRIPTION:Voltige\nPour s’initier ou se perfectionner aux exercices de voltige équestre. \nUn temps adapté à tous niveaux où chacun se confronte aux différents exercices de voltige équestre en toute sécurité. \nNos monitrices diplômées encadrent cette activité en adaptant les difficultés au niveau de chacun. \nUne approche ludique et détendue de cette pratique idéale pour la confiance en soi et l’équilibre. \n2.15.1.0
URL:https://domaine-equestre-maruejols.fr/calendrier/voltige/2026-04-22/
LOCATION:Domaine équestre de Maruejols\, chemin de Fontarame\, Saint-Cômes et Maruejols\, 30870\, France
CATEGORIES:Loisir
ATTACH;FMTTYPE=image/jpeg:https://domaine-equestre-maruejols.fr/wp-content/uploads/2022/03/voltige-dem-800.jpg
ORGANIZER;CN="Domaine %C3%A9questre de Maru%C3%A9jols":MAILTO:contact@domaine-equestre-maruejols.fr
GEO:43.8249319;4.177659
X-APPLE-STRUCTURED-LOCATION;VALUE=URI;X-ADDRESS=Domaine équestre de Maruejols chemin de Fontarame Saint-Cômes et Maruejols 30870 France;X-APPLE-RADIUS=500;X-TITLE=chemin de Fontarame:geo:4.177659,43.8249319
END:VEVENT
BEGIN:VEVENT
DTSTART;TZID=Europe/Paris:20260422T140000
DTEND;TZID=Europe/Paris:20260422T160000
DTSTAMP:20260422T043543
CREATED:20240524T115613Z
LAST-MODIFIED:20260420T031453Z
UID:10003997-1776866400-1776873600@domaine-equestre-maruejols.fr
SUMMARY:Promenade 2 heures
DESCRIPTION:Venez chevaucher à travers nos paysages pittoresques et ensoleillés de la Vaunage\, le temps d’une promenade bucolique. \nLaissez-vous envouter par les effluves odorantes de la flore méditerranéenne\, en compagnie de notre cavalerie\, née au domaine\, particulièrement adaptée pour la région. \nAccessible à tous\, maximum 5 cavaliers \n2.15.1.0
URL:https://domaine-equestre-maruejols.fr/calendrier/promenade-2-heures/2026-04-22/
LOCATION:Domaine équestre de Maruejols\, chemin de Fontarame\, Saint-Cômes et Maruejols\, 30870\, France
CATEGORIES:Loisir
ATTACH;FMTTYPE=image/jpeg:https://domaine-equestre-maruejols.fr/wp-content/uploads/2019/08/balade-dem-1-1200.jpg
ORGANIZER;CN="Domaine %C3%A9questre de Maru%C3%A9jols":MAILTO:contact@domaine-equestre-maruejols.fr
GEO:43.8249319;4.177659
X-APPLE-STRUCTURED-LOCATION;VALUE=URI;X-ADDRESS=Domaine équestre de Maruejols chemin de Fontarame Saint-Cômes et Maruejols 30870 France;X-APPLE-RADIUS=500;X-TITLE=chemin de Fontarame:geo:4.177659,43.8249319
END:VEVENT
BEGIN:VEVENT
DTSTART;TZID=Europe/Paris:20260422T140000
DTEND;TZID=Europe/Paris:20260422T170000
DTSTAMP:20260422T043543
CREATED:20221109T073849Z
LAST-MODIFIED:20260420T025823Z
UID:10004001-1776866400-1776877200@domaine-equestre-maruejols.fr
SUMMARY:CSO
DESCRIPTION:Demi-journée CSO\nPour les amateurs de CSO (à partir du galop 3). \nQue vous soyez compétiteurs ou non\, le CSO est une discipline exigeante mais riche en émotions. \nUne demi-journée pleine de rebondissements 🙂 \nComme il nous est impossible de prévoir quel niveau auront les cavaliers inscrits\, pensez à vous renseigner avant l’inscription. \nPossibilité de faire une journée complète avec la demi-journée dressage. \n2.15.1.0\n2.15.1.0
URL:https://domaine-equestre-maruejols.fr/calendrier/cso/2026-04-22/
LOCATION:Domaine équestre de Maruejols\, chemin de Fontarame\, Saint-Cômes et Maruejols\, 30870\, France
CATEGORIES:CSO
ATTACH;FMTTYPE=image/jpeg:https://domaine-equestre-maruejols.fr/wp-content/uploads/2020/12/cso-fanfan-e1607324565653.jpg
ORGANIZER;CN="Domaine %C3%A9questre de Maru%C3%A9jols":MAILTO:contact@domaine-equestre-maruejols.fr
GEO:43.8249319;4.177659
X-APPLE-STRUCTURED-LOCATION;VALUE=URI;X-ADDRESS=Domaine équestre de Maruejols chemin de Fontarame Saint-Cômes et Maruejols 30870 France;X-APPLE-RADIUS=500;X-TITLE=chemin de Fontarame:geo:4.177659,43.8249319
END:VEVENT
END:VCALENDAR